BEGIN:VCALENDAR
VERSION:2.0
PRODID:-//jEvents 2.0 for Joomla//EN
CALSCALE:GREGORIAN
METHOD:PUBLISH
BEGIN:VEVENT
UID:d883030561f5beaa164371cdd8b5165c
CATEGORIES:Safety
CREATED:20191107T190530
SUMMARY:YUMA Safety Program
LOCATION:Yuma Int'l Airport 2191 E. 32nd St. Board Room, 2nd floor Yuma, AZ 85365
DESCRIPTION;ENCODING=QUOTED-PRINTABLE:YUMA Safety Program\nNight Flying in Arizona, are TAA aircraft safer, and t
 he 180 turn back to airport\n\n\nDate and Time: Saturday, November 16, 2019
 , starting at 09:00 Arizona\n\n\nSpeaker(s):Fred Gibbs, APA Safety Director
 /FAASTeam Lead Rep\n\n\nBrief Description:\nOpen discussions on operating s
 afely while night flying, are Technically Advanced Aircraft (TAA) safer, an
 d the "impossible 180 turn" back to the airport after engine failure.\n\n\n
 Select Number:WP0796752\n\n\nLocation of Seminar:\nYuma Int'l Airport\n2191
  E. 32nd St.\nBoard Room, 2nd floor\nYuma, AZ 85365\n\n\nDirections to Venu
 e:\n\n\nDriving Directions:\nFrom Interstate 8 going East\nTake Exit 2 onto
  Highway 95 (16th St) going east, turn right on Pacific Ave. Cross 32nd Str
 eet to enter the Airport Parking Lot.\nFrom Interstate 8 going West\nTake E
 xit 3, turn south (left) onto Ave 3E. Turn right on 32nd Street. One mile, 
 at Pacific Ave, turn left into the Airport Parking Lot.\n\n\nFlying in: par
 k at Million Air\n\n\nFrom the parking lot, turn right on Burch Way, right 
 on Gillaspie Place. At the stop sign turn right on Arizona Ave.\nAt the sto
 p light, turn right on 32nd St and right into the airport's parking lot.\n\
 n\nView Map\n\n\nFly-in Seminar?:Yes KNYL\n\n\nSeating:45 seats at the faci
 lity\n\n\nRegistration Information:\nClick here to register online now!\n\n
 \nSponsoring Division:SDL FSDO FAASTeam\n\n\nContact Information:FRED L. GI
 BBS\nPhone: (928) 266-0112\nThis email address is being protected from spam
 bots. You need JavaScript enabled to view it.
				document.getElementById('
 cloake27d9cd76d26aa035671d79bb84db654').innerHTML = '';
				var prefix = '&
 #109;a' + 'i&#108;' + '&#116;o';
				var path = 'hr' + 'ef' + '=';
				var 
 addye27d9cd76d26aa035671d79bb84db654 = 'fr&#101;dg&#105;bbs' + '&#64;';
			
 	addye27d9cd76d26aa035671d79bb84db654 = addye27d9cd76d26aa035671d79bb84db65
 4 + 'npgc&#97;bl&#101;' + '&#46;' + 'c&#111;m';
				var addy_texte27d9cd76d
 26aa035671d79bb84db654 = 'fr&#101;dg&#105;bbs' + '&#64;' + 'npgc&#97;bl&#10
 1;' + '&#46;' + 'c&#111;m';document.getElementById('cloake27d9cd76d26aa0356
 71d79bb84db654').innerHTML += ''+addy_texte27d9cd76d26aa035671d79bb84db654+
 '';
		\n\n\nAdditional Event Information &amp; Acknowledgement of Industry 
 Sponsor(s):\nPresented by the Arizona Pilots Association Safety Program, an
 d sponsored and hosted by the Yuma International Airport\n\n\nEqual Access 
 Information:\nThe FAA Safety Team (FAASTeam) is committed to providing equa
 l access to this meeting/event for all participants. If you need alternativ
 e formats or services because of a disability, please communicate your requ
 est as soon as possible with the person in the “Contact Information” area o
 f the meeting/event notice. Note that two weeks is usually required to arra
 nge services.\n\n\nCredit Applicability:\n1 Credit for Basic Knowledge Topi
 c 3\n1 Credit for Advanced Knowledge Topic 1\n1 Credit for Master Knowledge
  Topic 1\n
CONTACT:FRED L. GIBBS Phone: (928) 266-0112 This email address is being protected from spambots. You need JavaScript enabled to view it.
				document.getElementById('cloak14969ea9fa158b2aaf29feac0a759790').innerHTML = '';
				var prefix = '&#109;a' + 'i&#108;' + '&#116;o';
				var path = 'hr' + 'ef' + '=';
				var addy14969ea9fa158b2aaf29feac0a759790 = 'fr&#101;dg&#105;bbs' + '&#64;';
				addy14969ea9fa158b2aaf29feac0a759790 = addy14969ea9fa158b2aaf29feac0a759790 + 'npgc&#97;bl&#101;' + '&#46;' + 'c&#111;m';
				var addy_text14969ea9fa158b2aaf29feac0a759790 = 'fr&#101;dg&#105;bbs' + '&#64;' + 'npgc&#97;bl&#101;' + '&#46;' + 'c&#111;m';document.getElementById('cloak14969ea9fa158b2aaf29feac0a759790').innerHTML += ''+addy_text14969ea9fa158b2aaf29feac0a759790+'';
		
DTSTAMP:20260422T054616Z
DTSTART;TZID=America/Phoenix:20191116T090000
SEQUENCE:0
TRANSP:OPAQUE
END:VEVENT
END:VCALENDAR