BEGIN:VCALENDAR
VERSION:2.0
PRODID:-//jEvents 2.0 for Joomla//EN
CALSCALE:GREGORIAN
METHOD:PUBLISH
BEGIN:VEVENT
UID:ccd558ce1b5e4ad18f8ae609a24a9db0
CATEGORIES:Backcountry
CREATED:20190902T131029
SUMMARY:Grapevine Monthly Fly-In Weekend
LOCATION:Grapevine (E75) near Roosevelt Lake
DESCRIPTION;ENCODING=QUOTED-PRINTABLE:\n&nbsp;\n&nbsp;\nThe camp host for this month is:\n~ RAF Wyoming ~\n\n\nFr
 iday night: Camp out under the stars\n\n\nSaturday: No BBQ Lunch this month
  but airport is open to visit.\n\n\nSaturday Night: BBQ dinner hosted by RA
 F Wyoming. RAF Wyoming will provide the main course. Campers can bring a di
 sh or donate. Join us to camp under the stars and tell stories around the g
 roup campfire!\n\n\nSunday: Most folks depart by noon\nATTN: Please, no mot
 or vehicles, other than APA and USFS support vehicles, are permitted past t
 he gate at the highway. This is a closed area and only aircraft access is a
 llowed. Help us keep our commitment to the USFS!\n\n\n\n\n\nAs always,\nPor
 t-A-John on site\nFree Airplane Parking\nFree Camping\nFree Black Labrador 
 Petting Zoo\nHiking\nPlenty of Sunshine\n\nClick for weather forecast&nbsp;
 &nbsp;Grapevine is open full time now, but the third Saturday of each month
  is a special time with lunch served on Saturday. Come an camp for the week
 end!\n&nbsp;\nClick here for the GRAPEVINE SAFETY BULLETIN\n&nbsp;\nPlease 
 email&nbsp;This email address is being protected from spambots. You need Ja
 vaScript enabled to view it.
				document.getElementById('cloakbc6ad58ff433
 b2265bf87f3b5881fbce').innerHTML = '';
				var prefix = '&#109;a' + 'i&#108
 ;' + '&#116;o';
				var path = 'hr' + 'ef' + '=';
				var addybc6ad58ff433b
 2265bf87f3b5881fbce = 'AzCl&#111;&#117;dFly&#101;r' + '&#64;';
				addybc6a
 d58ff433b2265bf87f3b5881fbce = addybc6ad58ff433b2265bf87f3b5881fbce + '&#10
 1;&#97;rthl&#105;nk' + '&#46;' + 'n&#101;t&amp;s&#117;bj&#101;ct=Gr&#97;p&#
 101;v&#105;n&#101;';
				var addy_textbc6ad58ff433b2265bf87f3b5881fbce = 'M
 &#105;k&#101; Andr&#101;s&#101;n';document.getElementById('cloakbc6ad58ff43
 3b2265bf87f3b5881fbce').innerHTML += ''+addy_textbc6ad58ff433b2265bf87f3b58
 81fbce+'';
		&nbsp;for more info or if you are interested in volunteering.\
 n&nbsp;\n\n\n\n\n\n\n\n\n\n\n\n
CONTACT:Mike Andresen  This email address is being protected from spambots. You need JavaScript enabled to view it.
				document.getElementById('cloak804fc75c13a8208f65646b86f4baa200').innerHTML = '';
				var prefix = '&#109;a' + 'i&#108;' + '&#116;o';
				var path = 'hr' + 'ef' + '=';
				var addy804fc75c13a8208f65646b86f4baa200 = 'm&#105;k&#101;' + '&#64;';
				addy804fc75c13a8208f65646b86f4baa200 = addy804fc75c13a8208f65646b86f4baa200 + '&#97;zp&#105;l&#111;ts' + '&#46;' + '&#111;rg';
				var addy_text804fc75c13a8208f65646b86f4baa200 = 'm&#105;k&#101;' + '&#64;' + '&#97;zp&#105;l&#111;ts' + '&#46;' + '&#111;rg';document.getElementById('cloak804fc75c13a8208f65646b86f4baa200').innerHTML += ''+addy_text804fc75c13a8208f65646b86f4baa200+'';
		
DTSTAMP:20260421T084129Z
DTSTART;TZID=America/Phoenix;VALUE=DATE:20190921
DTEND;TZID=America/Phoenix;VALUE=DATE:20190922
SEQUENCE:0
TRANSP:OPAQUE
END:VEVENT
END:VCALENDAR