BEGIN:VCALENDAR
VERSION:2.0
PRODID:-//jEvents 2.0 for Joomla//EN
CALSCALE:GREGORIAN
METHOD:PUBLISH
BEGIN:VEVENT
UID:7e0d09e7723b0477c517c2e6d34bc1d9
CATEGORIES:Other Fly-In
CREATED:20220214T124806
SUMMARY:Coolidge Airport (P08) Monthly Fly-In Breakfast
LOCATION:Coolidge Airport (P08)
DESCRIPTION;ENCODING=QUOTED-PRINTABLE:\n\n&nbsp;\nCoolidge Airport (P08) Monthly Fly-In BreakfastThe first Saturd
 ay of every month there is a fly in breakfast at Coolidge Airport (P08). \n
 Time: 8:00 to 12:00 noon.\nMonthly Fly-in Breakfast\nOn the first Saturday 
 of every month (except May, June, July, August and September), the Fly-ins 
 are now sponsored by Coolidge Aviation, LLC.&nbsp; Breakfast is served by t
 he Coolidge Lion’s Club in front of the main hangar (you know, the 1940’s h
 angar with the orange roof!) at the airport.&nbsp; The event usually starts
  about 8:00 a.m. and ends around 10:30 a.m.&nbsp; JetA and 100LL fuel is av
 ailable at the “self-serve” pump.&nbsp; If you have any questions about the
  fly-in please feel free to contact us.\nCoolidge Aviation, LLC\n520-723-53
 54\n\n
CONTACT:Coolidge Aviation, LLC 520-723-5354
DTSTAMP:20260419T101532Z
DTSTART;TZID=America/Phoenix:20230304T080000
DTEND;TZID=America/Phoenix:20230304T223000
SEQUENCE:0
TRANSP:OPAQUE
END:VEVENT
END:VCALENDAR