BEGIN:VCALENDAR
VERSION:2.0
PRODID:-//jEvents 2.0 for Joomla//EN
CALSCALE:GREGORIAN
METHOD:PUBLISH
BEGIN:VEVENT
UID:aa97cff6f3a76a08afd3d000c0ed8ed9
CATEGORIES:Backcountry
CREATED:20220818T075713
SUMMARY:Grapevine Monthly Camping Weekend
LOCATION:Grapevine (AZ88) near Roosevelt Lake
DESCRIPTION;ENCODING=QUOTED-PRINTABLE:\n&nbsp;\n&nbsp;\nThe camp host for this month is:\n~ Volunteer, it could b
 e you!&nbsp;~\n\n\nFriday night: Camp out under the stars!\n\n\nSaturday Ni
 ght: &nbsp;Join us to camp under the stars and tell stories around the grou
 p campfire!&nbsp;Camp host will prepare the main course. Campers, please br
 ing&nbsp;a side dish or dessert to share.&nbsp;\n\n\nSunday: Most folks dep
 art by noon\nATTN: Please, no motor vehicles, other than APA and USFS suppo
 rt vehicles, are permitted past the gate at the highway. This is a closed a
 rea and only aircraft access is allowed. Help us keep our commitment to the
  USFS!\n\n\nThe Arizona Pilots Association has done an incredible job savin
 g and rehabilitating Grapevine Airstrip (88AZ).&nbsp; Located on the south 
 shore of Roosevelt Lake, the approach to runway 17 is beautiful.&nbsp; It g
 ives the boaters on the lake a close-up view of many different aircraft as 
 they land on the fantastic asphalt runway.&nbsp; At 3,800 feet long, this a
 llows most aircraft to check it out.&nbsp;\n\n\nI am here to invite those i
 nterested to enjoy the backcountry flying, camping, and great camaraderie.&
 nbsp; On the third Saturday of the month from October to April, Grapevine h
 as a hosted weekend fly in and camping.&nbsp; Although not everyone is able
  to come in on Friday, there are a few of us that wouldn’t miss it.&nbsp; I
  am glad to tell the Friday crowd that the restaurant in Roosevelt is open 
 again and under new management.\n\n\nOn Saturday, there are plenty of membe
 rs and non-members that fly in and love to talk planes, airstrips, and othe
 r exciting adventures!&nbsp; I want to encourage everyone to come out and j
 oin us.&nbsp; Watch out for Mike Andresen, there is always something to cle
 an up or work on, and the Grapevine airstrip is maintained only though dona
 tions and volunteer help.\n\n\nAlso, why not stay overnight?&nbsp; The week
 end host(s) will provide the dinner’s main meal and the sides are brought b
 y the other campers.&nbsp; This results in a fantastic, scrumptious, heaven
 ly, yummy, luscious, divine, tasty, mouth-watering meal with beautiful scen
 ery and wonderful sunsets.&nbsp; In September, Jupiter was rising over the 
 eastern mountain range, competing with Venus in the western sky.\n\n\nThere
  will be some additions to the weekend.&nbsp; Coming this year, we will hav
 e corn hole competitions and other fun activities.&nbsp; Also, how good are
  you at making a paper airplane?&nbsp; Will it fly?&nbsp; How well will it 
 fly?&nbsp;&nbsp; Won’t you come and join us?&nbsp; Want to be a host?&nbsp;
  I’ve had many other suggestions, but I would love to hear from you, too.\n
 \n\nThis email address is being protected from spambots. You need JavaScrip
 t enabled to view it.
				document.getElementById('cloak6a98f685f5d43abcd8b
 d2d4dcb06ceb4').innerHTML = '';
				var prefix = '&#109;a' + 'i&#108;' + '&
 #116;o';
				var path = 'hr' + 'ef' + '=';
				var addy6a98f685f5d43abcd8bd
 2d4dcb06ceb4 = 'l&#101;&#97;nn&#101;' + '&#64;';
				addy6a98f685f5d43abcd8
 bd2d4dcb06ceb4 = addy6a98f685f5d43abcd8bd2d4dcb06ceb4 + '&#97;zp&#105;l&#11
 1;ts' + '&#46;' + '&#111;rg?s&#117;bj&#101;ct=Gr&#97;p&#101;v&#105;n&#101;'
 ;
				var addy_text6a98f685f5d43abcd8bd2d4dcb06ceb4 = 'L&#101;&#97;nn&#101;
 ';document.getElementById('cloak6a98f685f5d43abcd8bd2d4dcb06ceb4').innerHTM
 L += ''+addy_text6a98f685f5d43abcd8bd2d4dcb06ceb4+'';
		\n\n\n&nbsp;\n\n\n\
 n\nAs always,\nPort-A-John on site\nFree Airplane Parking\nFree Camping\nFr
 ee Black Labrador Petting Zoo\nHiking\nPlenty of Sunshine\n&nbsp;&nbsp;&nbs
 p;Grapevine is open full time now, but the third Saturday of each month is 
 a special time for a group camp dinner on Saturday evening. Come and camp f
 or the weekend!\n&nbsp;\nClick here for the GRAPEVINE SAFETY BULLETIN\n&nbs
 p;\nPlease email&nbsp;This email address is being protected from spambots. 
 You need JavaScript enabled to view it.
				document.getElementById('cloakb
 52c26472d5f725b8780cabbcd0371a0').innerHTML = '';
				var prefix = '&#109;a
 ' + 'i&#108;' + '&#116;o';
				var path = 'hr' + 'ef' + '=';
				var addyb5
 2c26472d5f725b8780cabbcd0371a0 = 'AzCl&#111;&#117;dFly&#101;r' + '&#64;';
	
 			addyb52c26472d5f725b8780cabbcd0371a0 = addyb52c26472d5f725b8780cabbcd037
 1a0 + '&#101;&#97;rthl&#105;nk' + '&#46;' + 'n&#101;t&amp;s&#117;bj&#101;ct
 =Gr&#97;p&#101;v&#105;n&#101;';
				var addy_textb52c26472d5f725b8780cabbcd
 0371a0 = 'M&#105;k&#101; Andr&#101;s&#101;n';document.getElementById('cloak
 b52c26472d5f725b8780cabbcd0371a0').innerHTML += ''+addy_textb52c26472d5f725
 b8780cabbcd0371a0+'';
		&nbsp;for more info or if you are interested in vol
 unteering.\n&nbsp;\n\n\n\n\n\n\n\n\n\n\n\n&nbsp;\n
CONTACT:Leanne - This email address is being protected from spambots. You need JavaScript enabled to view it.
				document.getElementById('cloakfa41ff245c2d4fe642e8c7c9926246fd').innerHTML = '';
				var prefix = '&#109;a' + 'i&#108;' + '&#116;o';
				var path = 'hr' + 'ef' + '=';
				var addyfa41ff245c2d4fe642e8c7c9926246fd = 'l&#101;&#97;nn&#101;' + '&#64;';
				addyfa41ff245c2d4fe642e8c7c9926246fd = addyfa41ff245c2d4fe642e8c7c9926246fd + '&#97;zp&#105;l&#111;ts' + '&#46;' + '&#111;rg';
				var addy_textfa41ff245c2d4fe642e8c7c9926246fd = 'l&#101;&#97;nn&#101;' + '&#64;' + '&#97;zp&#105;l&#111;ts' + '&#46;' + '&#111;rg';document.getElementById('cloakfa41ff245c2d4fe642e8c7c9926246fd').innerHTML += ''+addy_textfa41ff245c2d4fe642e8c7c9926246fd+'';
		
DTSTAMP:20260419T135907Z
DTSTART;TZID=America/Phoenix;VALUE=DATE:20230421
DTEND;TZID=America/Phoenix;VALUE=DATE:20230417
SEQUENCE:0
TRANSP:OPAQUE
END:VEVENT
END:VCALENDAR