BEGIN:VCALENDAR
VERSION:2.0
PRODID:-//jEvents 2.0 for Joomla//EN
CALSCALE:GREGORIAN
METHOD:PUBLISH
BEGIN:VEVENT
UID:eb337ce00f4a1eeec49ccbba9d26e359
CATEGORIES:Other Fly-In
CREATED:20221010T164025
SUMMARY:Falcon Field Movie Night
LOCATION:4753 E. Falcon Drive  Suite 4, Mesa, AZ 85215
DESCRIPTION;ENCODING=QUOTED-PRINTABLE:\n\n\n\n\n&nbsp;\n\n\nWe will also start having Aviation Movie Night on Fri
 day the 14 at the Cunningham Aviation Hangar. Entrance to movie night is on
  the north east end of the Cunningham Aviation building pedestrian door out
 side the fence and parking is available on the west end of the building and
  parallel parking is available on the street.\n\n\nPedestrian door will be 
 open at 5:30 pm and the movie will start at 6:30pm. Free popcorn, water and
  soft drinks will be available. Any donations are greatly appreciated.\n\n\
 n&nbsp;\nPresented by Falcon Warbirds FOundation &amp; Cunningham Aviation\
 nFalcon Field Movie Night\nFriday Night2022 Dates2023 DatesOctober 14th\nNo
 vember 18th\nDecember 16thJanuary 20th\nFebruary 17th\nMarch 17th\nApril 14
 th\nMay 19th\n\n&nbsp;\nDoors open at 6PM for the early birds\nMovie starts
  at 6:30PM\nFree popcorn, softdrinks, and water!\n\n\n&nbsp;\n4753 E. Falco
 n Drive\nSuite 4, Mesa, AZ 85215\n602-549-8892\n\n\n&nbsp;\nFree admission\
 nFalcon Warbirds Foundation appreciates your donations\n
CONTACT:602-549-8892
DTSTAMP:20260420T034445Z
DTSTART;TZID=America/Phoenix:20230217T183000
SEQUENCE:0
TRANSP:OPAQUE
END:VEVENT
END:VCALENDAR