BEGIN:VCALENDAR
VERSION:2.0
PRODID:-//jEvents 2.0 for Joomla//EN
CALSCALE:GREGORIAN
METHOD:PUBLISH
BEGIN:VEVENT
UID:9e4ccbad42fe0c76ecd44ef57edfea47
CATEGORIES:Safety
CREATED:20230529T091420
SUMMARY:Phoenix TRACON Operation Raincheck AAL/ERU
LOCATION:Phoenix TRACON/ATCT 3500 E Sky Harbor Blvd Phoenix, AZ 85034
DESCRIPTION;ENCODING=QUOTED-PRINTABLE:Phoenix TRACON Operation Raincheck AAL/ERUBriefing and tour of the Phoenix 
 TRACON and Phoenix Air Traffic Control Tower.Date and Time: Monday, June 26
 , 2023, starting at 18:00 ArizonaSpeaker(s): Air Traffic Controllers from T
 RACON and TowerBrief Description:DUE TO SECURITY REQUIREMENTS,&nbsp;ONLY OP
 EN TO U.S. CITIZENS. PHOTO IDENTIFICATION REQUIRED TO ATTEND.\nREGISTRATION
  DEADLINE IS June 15TH.\nPlease join us at Phoenix TRACON for Operation Rai
 ncheck, presented by the National Air Traffic Controllers Association (NATC
 A) and the FAA. This program allows controllers and pilots to interact one-
 on-one with a short presentation followed by a question and answer session.
  Discussions will include best operating practices, review of Phoenix area 
 hot spots, Class Bravo transition and general overview of what controllers 
 do at the TRACON. We will conclude with a tour of the TRACON and PHX Tower.
 \nSelect Number: WP07122253Location of Seminar:Phoenix TRACON/ATCT\n3500 E 
 Sky Harbor Blvd\nPhoenix, AZ&nbsp;85034Directions to Venue:\n\nFrom the wes
 t valley, take I-10 to the exit for Sky Harbor International Airport (exit 
 149) and drive to parking in Terminal 3 Parking garage. From the Southeast 
 valley, take I-10 to the Hohokam Expressway, AZ-143 (Exit 153A) to E. Sky H
 arbor Blvd (Exit 3B) to the terminal 3 Parking garage. From the East and No
 rtheast valley take AZ-202 to E. Sky Harbor Blvd (Exit 5) to the terminal 3
  Parking garage. Park in Terminal 3 garage and walk towards Terminal 4. Gua
 rd shack is located on the south side of the terminals between terminal 3 a
 nd terminal 4.&nbsp;Parking will not be validated, participants will have t
 o pay for parking.&nbsp;Visitors must be US citizens with valid photo ID. A
 ll visitors will go through security screening.\nView MapFly-in Seminar?: N
 oSeating: Check Additional event Information below for possible registratio
 n requirements.Sponsoring Division: FAASTeamContact Information:MATTHEW SCH
 ORMAN\nPhone: (480) 227-0600\nThis email address is being protected from sp
 ambots. You need JavaScript enabled to view it.
				document.getElementById
 ('cloak96fa5c4edd9843493d3d2fc77a7d7887').innerHTML = '';
				var prefix = 
 '&#109;a' + 'i&#108;' + '&#116;o';
				var path = 'hr' + 'ef' + '=';
				va
 r addy96fa5c4edd9843493d3d2fc77a7d7887 = 'm&#97;sch&#111;rm&#97;n' + '&#64;
 ';
				addy96fa5c4edd9843493d3d2fc77a7d7887 = addy96fa5c4edd9843493d3d2fc77
 a7d7887 + 'gm&#97;&#105;l' + '&#46;' + 'c&#111;m';
				var addy_text96fa5c4
 edd9843493d3d2fc77a7d7887 = 'm&#97;sch&#111;rm&#97;n' + '&#64;' + 'gm&#97;&
 #105;l' + '&#46;' + 'c&#111;m';document.getElementById('cloak96fa5c4edd9843
 493d3d2fc77a7d7887').innerHTML += ''+addy_text96fa5c4edd9843493d3d2fc77a7d7
 887+'';
		Additional Event Information &amp; Acknowledgement of Industry Sp
 onsor(s):The FAASteam would like to thank the Phoenix TRACON and Tower pers
 onnel and management for supporting such an important community enlightenin
 g event.\nPrior to attending a safety seminar, please review and abide by c
 urrent CDC, State, and Local health guidelines.&nbsp;\nEqual Access Informa
 tion:The FAA Safety Team (FAASTeam) is committed to providing equal access 
 to this meeting/event for all participants. If you need alternative formats
  or services because of a disability, please communicate your request as so
 on as possible with the person in the “Contact Information” area of the mee
 ting/event notice. Note that two weeks is usually required to arrange servi
 ces.Credit Applicability:1 Credit for Basic Knowledge Topic 3
CONTACT:MATTHEW SCHORMAN Phone: (480) 227-0600 This email address is being protected from spambots. You need JavaScript enabled to view it.
				document.getElementById('cloakf8aa9f5d3d14eb3c0fed8ca2668f05a7').innerHTML = '';
				var prefix = '&#109;a' + 'i&#108;' + '&#116;o';
				var path = 'hr' + 'ef' + '=';
				var addyf8aa9f5d3d14eb3c0fed8ca2668f05a7 = 'm&#97;sch&#111;rm&#97;n' + '&#64;';
				addyf8aa9f5d3d14eb3c0fed8ca2668f05a7 = addyf8aa9f5d3d14eb3c0fed8ca2668f05a7 + 'gm&#97;&#105;l' + '&#46;' + 'c&#111;m';
				var addy_textf8aa9f5d3d14eb3c0fed8ca2668f05a7 = 'm&#97;sch&#111;rm&#97;n' + '&#64;' + 'gm&#97;&#105;l' + '&#46;' + 'c&#111;m';document.getElementById('cloakf8aa9f5d3d14eb3c0fed8ca2668f05a7').innerHTML += ''+addy_textf8aa9f5d3d14eb3c0fed8ca2668f05a7+'';
		
DTSTAMP:20260420T020113Z
DTSTART;TZID=America/Phoenix:20230626T180000
SEQUENCE:0
TRANSP:OPAQUE
END:VEVENT
END:VCALENDAR