BEGIN:VCALENDAR
VERSION:2.0
PRODID:-//jEvents 2.0 for Joomla//EN
CALSCALE:GREGORIAN
METHOD:PUBLISH
BEGIN:VEVENT
UID:9d310e378d2a3757a05f0543641797d0
CATEGORIES:Backcountry
CREATED:20230913T102139
SUMMARY:Grapevine Monthly Camping Weekend
LOCATION:Grapevine (AZ88) near Roosevelt Lake
DESCRIPTION;ENCODING=QUOTED-PRINTABLE:\n&nbsp;\n&nbsp;\nThe camp host for this month is:\n~ Daryl &amp; Karen ~\n
 \n\nFriday night: Camp out under the stars!\n\n\nSaturday Night: &nbsp;Join
  us to camp under the stars and tell stories around the group campfire!&nbs
 p;Camp host will prepare the main course. Campers, please bring&nbsp;a side
  dish or dessert to share.&nbsp;\n\n\nSunday: Most folks depart by noon\nAT
 TN: Please, no motor vehicles, other than APA and USFS support vehicles, ar
 e permitted past the gate at the highway. This is a closed area and only ai
 rcraft access is allowed. Help us keep our commitment to the USFS!\n\n\n&nb
 sp;\n\n\n*** Grapevine Notice! ***\n\n\nMountain Air Helicopters is operati
 ng two helicopters at low level for construction operations between the USF
 S helipad and primarily within 3 NM of the Roosevelt Dam. Please avoid the 
 dam area, including the canyon downstream, when flying into and near the Gr
 apevine Airstrip.\n\n\nFor more info contact: Dwight Jones\nMountain Air He
 licopters\n505-603-0306\n\n\nThe Arizona Pilots Association has done an inc
 redible job saving and rehabilitating Grapevine Airstrip (88AZ).&nbsp; Loca
 ted on the south shore of Roosevelt Lake, the approach to runway 17 is beau
 tiful.&nbsp; It gives the boaters on the lake a close-up view of many diffe
 rent aircraft as they land on the fantastic asphalt runway.&nbsp; At 3,800 
 feet long, this allows most aircraft to check it out.&nbsp;\n\n\nI am here 
 to invite those interested to enjoy the backcountry flying, camping, and gr
 eat camaraderie.&nbsp; On the third Saturday of the month from October to A
 pril, Grapevine has a hosted weekend fly in and camping.&nbsp; Although not
  everyone is able to come in on Friday, there are a few of us that wouldn’t
  miss it.&nbsp; I am glad to tell the Friday crowd that the restaurant in R
 oosevelt is open again and under new management.\n\n\nOn Saturday, there ar
 e plenty of members and non-members that fly in and love to talk planes, ai
 rstrips, and other exciting adventures!&nbsp; I want to encourage everyone 
 to come out and join us.&nbsp; Watch out for Mike Andresen, there is always
  something to clean up or work on, and the Grapevine airstrip is maintained
  only though donations and volunteer help.\n\n\nAlso, why not stay overnigh
 t?&nbsp; The weekend host(s) will provide the dinner’s main meal and the si
 des are brought by the other campers.&nbsp; This results in a fantastic, sc
 rumptious, heavenly, yummy, luscious, divine, tasty, mouth-watering meal wi
 th beautiful scenery and wonderful sunsets.&nbsp; In September, Jupiter was
  rising over the eastern mountain range, competing with Venus in the wester
 n sky.\n\n\nThere will be some additions to the weekend.&nbsp; Coming this 
 year, we will have corn hole competitions and other fun activities.&nbsp; A
 lso, how good are you at making a paper airplane?&nbsp; Will it fly?&nbsp; 
 How well will it fly?&nbsp;&nbsp; Won’t you come and join us?&nbsp; Want to
  be a host?&nbsp; I’ve had many other suggestions, but I would love to hear
  from you, too.\n\n\nThis email address is being protected from spambots. Y
 ou need JavaScript enabled to view it.
				document.getElementById('cloak77
 adfbdf1e37165b1c1a4b5b05b79cce').innerHTML = '';
				var prefix = '&#109;a'
  + 'i&#108;' + '&#116;o';
				var path = 'hr' + 'ef' + '=';
				var addy77a
 dfbdf1e37165b1c1a4b5b05b79cce = 'l&#101;&#97;nn&#101;' + '&#64;';
				addy7
 7adfbdf1e37165b1c1a4b5b05b79cce = addy77adfbdf1e37165b1c1a4b5b05b79cce + '&
 #97;zp&#105;l&#111;ts' + '&#46;' + '&#111;rg?s&#117;bj&#101;ct=Gr&#97;p&#10
 1;v&#105;n&#101;';
				var addy_text77adfbdf1e37165b1c1a4b5b05b79cce = 'L&#
 101;&#97;nn&#101;';document.getElementById('cloak77adfbdf1e37165b1c1a4b5b05
 b79cce').innerHTML += ''+addy_text77adfbdf1e37165b1c1a4b5b05b79cce+'';
		\n
 \n\n&nbsp;\n\n\n\n\nAs always,\nPort-A-John on site\nFree Airplane Parking\
 nFree Camping\nFree Black Labrador Petting Zoo\nHiking\nPlenty of Sunshine\
 n&nbsp;&nbsp;&nbsp;Grapevine is open full time now, but the third Saturday 
 of each month is a special time for a group camp dinner on Saturday evening
 . Come and camp for the weekend!\n&nbsp;\nClick here for the GRAPEVINE SAFE
 TY BULLETIN\n&nbsp;\nPlease email&nbsp;This email address is being protecte
 d from spambots. You need JavaScript enabled to view it.
				document.getEl
 ementById('cloak55d290c0de5744575927e4b9e0ca1ada').innerHTML = '';
				var 
 prefix = '&#109;a' + 'i&#108;' + '&#116;o';
				var path = 'hr' + 'ef' + '=
 ';
				var addy55d290c0de5744575927e4b9e0ca1ada = 'AzCl&#111;&#117;dFly&#10
 1;r' + '&#64;';
				addy55d290c0de5744575927e4b9e0ca1ada = addy55d290c0de57
 44575927e4b9e0ca1ada + '&#101;&#97;rthl&#105;nk' + '&#46;' + 'n&#101;t&amp;
 s&#117;bj&#101;ct=Gr&#97;p&#101;v&#105;n&#101;';
				var addy_text55d290c0d
 e5744575927e4b9e0ca1ada = 'M&#105;k&#101; Andr&#101;s&#101;n';document.getE
 lementById('cloak55d290c0de5744575927e4b9e0ca1ada').innerHTML += ''+addy_te
 xt55d290c0de5744575927e4b9e0ca1ada+'';
		&nbsp;for more info or if you are 
 interested in volunteering.\n&nbsp;\n\n\n\n\n\n\n\n\n\n\n\n&nbsp;\n
CONTACT:Leanne - This email address is being protected from spambots. You need JavaScript enabled to view it.
				document.getElementById('cloakc5b25b4d920f34f84ff43468257422e0').innerHTML = '';
				var prefix = '&#109;a' + 'i&#108;' + '&#116;o';
				var path = 'hr' + 'ef' + '=';
				var addyc5b25b4d920f34f84ff43468257422e0 = 'l&#101;&#97;nn&#101;' + '&#64;';
				addyc5b25b4d920f34f84ff43468257422e0 = addyc5b25b4d920f34f84ff43468257422e0 + '&#97;zp&#105;l&#111;ts' + '&#46;' + '&#111;rg';
				var addy_textc5b25b4d920f34f84ff43468257422e0 = 'l&#101;&#97;nn&#101;' + '&#64;' + '&#97;zp&#105;l&#111;ts' + '&#46;' + '&#111;rg';document.getElementById('cloakc5b25b4d920f34f84ff43468257422e0').innerHTML += ''+addy_textc5b25b4d920f34f84ff43468257422e0+'';
		
DTSTAMP:20260419T135908Z
DTSTART;TZID=America/Phoenix;VALUE=DATE:20221118
DTEND;TZID=America/Phoenix;VALUE=DATE:20231218
SEQUENCE:0
TRANSP:OPAQUE
END:VEVENT
END:VCALENDAR