BEGIN:VCALENDAR
VERSION:2.0
PRODID:-//jEvents 2.0 for Joomla//EN
CALSCALE:GREGORIAN
METHOD:PUBLISH
BEGIN:VEVENT
UID:9d310e378d2a3757a05f0543641797d0
CATEGORIES:Backcountry
CREATED:20230913T102139
SUMMARY:Grapevine Monthly Camping Weekend
LOCATION:Grapevine (AZ88) near Roosevelt Lake
DESCRIPTION;ENCODING=QUOTED-PRINTABLE:\n&nbsp;\n&nbsp;\nThe camp host for this month is:\n~ Rod Kunkel ~\n\n\nFri
 day night: Camp out under the stars!\n\n\nSaturday Night: &nbsp;Join us to 
 camp under the stars and tell stories around the group campfire!&nbsp;Camp 
 host will prepare the main course. Campers, please bring&nbsp;a side dish o
 r dessert to share.&nbsp;\n\n\nSunday: Most folks depart by noon\nATTN: Ple
 ase, no motor vehicles, other than APA and USFS support vehicles, are permi
 tted past the gate at the highway. This is a closed area and only aircraft 
 access is allowed. Help us keep our commitment to the USFS!\n\n\nThe Arizon
 a Pilots Association has done an incredible job saving and rehabilitating G
 rapevine Airstrip (88AZ).&nbsp; Located on the south shore of Roosevelt Lak
 e, the approach to runway 17 is beautiful.&nbsp; It gives the boaters on th
 e lake a close-up view of many different aircraft as they land on the fanta
 stic asphalt runway.&nbsp; At 3,800 feet long, this allows most aircraft to
  check it out.&nbsp;\n\n\nI am here to invite those interested to enjoy the
  backcountry flying, camping, and great camaraderie.&nbsp; On the third Sat
 urday of the month from October to April, Grapevine has a hosted weekend fl
 y in and camping.&nbsp; Although not everyone is able to come in on Friday,
  there are a few of us that wouldn’t miss it.&nbsp; I am glad to tell the F
 riday crowd that the restaurant in Roosevelt is open again and under new ma
 nagement.\n\n\nOn Saturday, there are plenty of members and non-members tha
 t fly in and love to talk planes, airstrips, and other exciting adventures!
 &nbsp; I want to encourage everyone to come out and join us.&nbsp; Watch ou
 t for Mike Andresen, there is always something to clean up or work on, and 
 the Grapevine airstrip is maintained only though donations and volunteer he
 lp.\n\n\nAlso, why not stay overnight?&nbsp; The weekend host(s) will provi
 de the dinner’s main meal and the sides are brought by the other campers.&n
 bsp; This results in a fantastic, scrumptious, heavenly, yummy, luscious, d
 ivine, tasty, mouth-watering meal with beautiful scenery and wonderful suns
 ets.&nbsp; In September, Jupiter was rising over the eastern mountain range
 , competing with Venus in the western sky.\n\n\nThere will be some addition
 s to the weekend.&nbsp; Coming this year, we will have corn hole competitio
 ns and other fun activities.&nbsp; Also, how good are you at making a paper
  airplane?&nbsp; Will it fly?&nbsp; How well will it fly?&nbsp;&nbsp; Won’t
  you come and join us?&nbsp; Want to be a host?&nbsp; I’ve had many other s
 uggestions, but I would love to hear from you, too.\n\n\nThis email address
  is being protected from spambots. You need JavaScript enabled to view it.

 				document.getElementById('cloake8d98c23fc1d9dee6d5b0089ae72a41f').innerH
 TML = '';
				var prefix = '&#109;a' + 'i&#108;' + '&#116;o';
				var path 
 = 'hr' + 'ef' + '=';
				var addye8d98c23fc1d9dee6d5b0089ae72a41f = 'l&#101
 ;&#97;nn&#101;' + '&#64;';
				addye8d98c23fc1d9dee6d5b0089ae72a41f = addye
 8d98c23fc1d9dee6d5b0089ae72a41f + '&#97;zp&#105;l&#111;ts' + '&#46;' + '&#1
 11;rg?s&#117;bj&#101;ct=Gr&#97;p&#101;v&#105;n&#101;';
				var addy_texte8d
 98c23fc1d9dee6d5b0089ae72a41f = 'L&#101;&#97;nn&#101;';document.getElementB
 yId('cloake8d98c23fc1d9dee6d5b0089ae72a41f').innerHTML += ''+addy_texte8d98
 c23fc1d9dee6d5b0089ae72a41f+'';
		\n\n\n&nbsp;\n\n\n\n\nAs always,\nPort-A-
 John on site\nFree Airplane Parking\nFree Camping\nFree Black Labrador Pett
 ing Zoo\nHiking\nPlenty of Sunshine\n&nbsp;&nbsp;&nbsp;Grapevine is open fu
 ll time now, but the third Saturday of each month is a special time for a g
 roup camp dinner on Saturday evening. Come and camp for the weekend!\n&nbsp
 ;\nClick here for the GRAPEVINE SAFETY BULLETIN\n&nbsp;\nPlease email&nbsp;
 This email address is being protected from spambots. You need JavaScript en
 abled to view it.
				document.getElementById('cloak88bc477c7edfe4cfe3cd387
 af9d04405').innerHTML = '';
				var prefix = '&#109;a' + 'i&#108;' + '&#116
 ;o';
				var path = 'hr' + 'ef' + '=';
				var addy88bc477c7edfe4cfe3cd387a
 f9d04405 = 'AzCl&#111;&#117;dFly&#101;r' + '&#64;';
				addy88bc477c7edfe4c
 fe3cd387af9d04405 = addy88bc477c7edfe4cfe3cd387af9d04405 + '&#101;&#97;rthl
 &#105;nk' + '&#46;' + 'n&#101;t&amp;s&#117;bj&#101;ct=Gr&#97;p&#101;v&#105;
 n&#101;';
				var addy_text88bc477c7edfe4cfe3cd387af9d04405 = 'M&#105;k&#10
 1; Andr&#101;s&#101;n';document.getElementById('cloak88bc477c7edfe4cfe3cd38
 7af9d04405').innerHTML += ''+addy_text88bc477c7edfe4cfe3cd387af9d04405+'';

 		&nbsp;for more info or if you are interested in volunteering.\n&nbsp;\n\n
 \n\n\n\n\n\n\n\n\n\n&nbsp;\n
CONTACT:Leanne - This email address is being protected from spambots. You need JavaScript enabled to view it.
				document.getElementById('cloakbd6c1e0e3e0ac34e1a4d099f9775450e').innerHTML = '';
				var prefix = '&#109;a' + 'i&#108;' + '&#116;o';
				var path = 'hr' + 'ef' + '=';
				var addybd6c1e0e3e0ac34e1a4d099f9775450e = 'l&#101;&#97;nn&#101;' + '&#64;';
				addybd6c1e0e3e0ac34e1a4d099f9775450e = addybd6c1e0e3e0ac34e1a4d099f9775450e + '&#97;zp&#105;l&#111;ts' + '&#46;' + '&#111;rg';
				var addy_textbd6c1e0e3e0ac34e1a4d099f9775450e = 'l&#101;&#97;nn&#101;' + '&#64;' + '&#97;zp&#105;l&#111;ts' + '&#46;' + '&#111;rg';document.getElementById('cloakbd6c1e0e3e0ac34e1a4d099f9775450e').innerHTML += ''+addy_textbd6c1e0e3e0ac34e1a4d099f9775450e+'';
		
DTSTAMP:20260420T023446Z
DTSTART;TZID=America/Phoenix;VALUE=DATE:20230317
DTEND;TZID=America/Phoenix;VALUE=DATE:20240422
SEQUENCE:0
TRANSP:OPAQUE
END:VEVENT
END:VCALENDAR