BEGIN:VCALENDAR
VERSION:2.0
PRODID:-//jEvents 2.0 for Joomla//EN
CALSCALE:GREGORIAN
METHOD:PUBLISH
BEGIN:VEVENT
UID:3e16dfba453afd52bc50a00c26633e22
CATEGORIES:Other Fly-In
CREATED:20240510T201236
SUMMARY:Fly Out To Bar 10 Ranch - 1Z1 Grand Canyon
LOCATION:Bar 10 Ranch - 1Z1 Grand Canyon
DESCRIPTION;ENCODING=QUOTED-PRINTABLE:&nbsp;Join the New Mexico Pilots Association on the North Rim this October 
 at the Bar 10 RanchReserve your room today, call Sarah&nbsp;to make your re
 servation435-628-4010\n\n&nbsp;\n\n\nArrive Bar Ten Sunday, October 20th&nb
 sp;- Depart Tuesday the 22nd\n&nbsp;\nLots of good food and fellowship.&nbs
 p;\n&nbsp;\nFly out to local airstrips planned Monday morning, i.e. Grand G
 ulch backcountry strip\n&nbsp;\nSide by Side ride to North Rim on Monday af
 ternoon.\n\n\n&nbsp;\nContact Sarah at Bar Ten&nbsp;www.bar10.com to make y
 our reservation: 435.628.4010\n&nbsp;\nContact Perry Null for more info:&nb
 sp;This email address is being protected from spambots. You need JavaScript
  enabled to view it.
				document.getElementById('cloak00f0a2eca83e75873cfa
 edb42210c5df').innerHTML = '';
				var prefix = '&#109;a' + 'i&#108;' + '&#
 116;o';
				var path = 'hr' + 'ef' + '=';
				var addy00f0a2eca83e75873cfae
 db42210c5df = 'p&#101;rrydn&#117;ll' + '&#64;';
				addy00f0a2eca83e75873cf
 aedb42210c5df = addy00f0a2eca83e75873cfaedb42210c5df + 'gm&#97;&#105;l' + '
 &#46;' + 'c&#111;m';
				var addy_text00f0a2eca83e75873cfaedb42210c5df = 'p
 &#101;rrydn&#117;ll' + '&#64;' + 'gm&#97;&#105;l' + '&#46;' + 'c&#111;m';do
 cument.getElementById('cloak00f0a2eca83e75873cfaedb42210c5df').innerHTML +=
  ''+addy_text00f0a2eca83e75873cfaedb42210c5df+'';
		&nbsp;505.870.1233\n\n\
 n&nbsp;\n\n\nMore information at New Mexico Pilots Association\n\n\n&nbsp;\
 n\n\n&nbsp;\n
CONTACT:Perry Null This email address is being protected from spambots. You need JavaScript enabled to view it.
				document.getElementById('cloakea838ec8ee07833821ded3ecd21795a9').innerHTML = '';
				var prefix = '&#109;a' + 'i&#108;' + '&#116;o';
				var path = 'hr' + 'ef' + '=';
				var addyea838ec8ee07833821ded3ecd21795a9 = 'p&#101;rrydn&#117;ll' + '&#64;';
				addyea838ec8ee07833821ded3ecd21795a9 = addyea838ec8ee07833821ded3ecd21795a9 + 'gm&#97;&#105;l' + '&#46;' + 'c&#111;m';
				var addy_textea838ec8ee07833821ded3ecd21795a9 = 'p&#101;rrydn&#117;ll' + '&#64;' + 'gm&#97;&#105;l' + '&#46;' + 'c&#111;m';document.getElementById('cloakea838ec8ee07833821ded3ecd21795a9').innerHTML += ''+addy_textea838ec8ee07833821ded3ecd21795a9+'';
		 505.870.1233
DTSTAMP:20260419T231941Z
DTSTART;TZID=America/Phoenix;VALUE=DATE:20241020
DTEND;TZID=America/Phoenix;VALUE=DATE:20241023
SEQUENCE:0
TRANSP:OPAQUE
END:VEVENT
END:VCALENDAR