BEGIN:VCALENDAR
VERSION:2.0
PRODID:-//jEvents 2.0 for Joomla//EN
CALSCALE:GREGORIAN
METHOD:PUBLISH
BEGIN:VEVENT
UID:22f2b46deb6dd4b8e37e6bb47d9bb29d
CATEGORIES:APA Fly-In
CREATED:20240610T130004
SUMMARY:Breakfast Flight to Show Low, AZ (KSOW)
LOCATION:Show Low, AZ (KSOW)
DESCRIPTION;ENCODING=QUOTED-PRINTABLE:\nSHOW LOW, AZ&nbsp; &nbsp;--&nbsp; Airport KSOW&nbsp; --- Saturday, Septem
 ber 14, 2024&nbsp; --- Planned arrival time at KSOW:&nbsp; 7:30am.\nAPA's &
 nbsp;Show Low breakfast fly-in is this Saturday and will be the last of our
  summer outings. &nbsp;There's an update to our breakfast location and airc
 raft parking that I wanted to share with everyone planning to attend.\n\nEA
 A Chapter 586 is located at the Show Low airport and coincidentally has the
 ir 2nd annual pancake breakfast this Saturday. &nbsp;They've asked us if we
  would help support the chapter by attending their breakfast. &nbsp;Our arr
 ival time remains the same (7:30a), but there will be specific aircraft par
 king locations for the breakfast and the Chapter will provide shuttles to t
 ake you from your airplane to the EAA hanger (see airport diagram below). &
 nbsp;It should be a great time to eat and relax with fellow pilots (and hop
 efully enjoy some cooler weather). &nbsp;Self-serve fuel prices at the time
  of this update were an attractive $5.38 too.\n\nAs always, please feel fre
 e to email me at This email address is being protected from spambots. You n
 eed JavaScript enabled to view it.
				document.getElementById('cloak7e6244
 f68da0e4c172a5716bf95e7550').innerHTML = '';
				var prefix = '&#109;a' + '
 i&#108;' + '&#116;o';
				var path = 'hr' + 'ef' + '=';
				var addy7e6244f
 68da0e4c172a5716bf95e7550 = 'd&#97;ytr&#105;ps' + '&#64;';
				addy7e6244f6
 8da0e4c172a5716bf95e7550 = addy7e6244f68da0e4c172a5716bf95e7550 + '&#97;zp&
 #105;l&#111;ts' + '&#46;' + '&#111;rg';
				var addy_text7e6244f68da0e4c172
 a5716bf95e7550 = 'd&#97;ytr&#105;ps' + '&#64;' + '&#97;zp&#105;l&#111;ts' +
  '&#46;' + '&#111;rg';document.getElementById('cloak7e6244f68da0e4c172a5716
 bf95e7550').innerHTML += ''+addy_text7e6244f68da0e4c172a5716bf95e7550+'';
	
 	 if you have any questions and we'll look forward to seeing you soon!\n\nM
 ike McCann\nAPA Day Trip Coordinator..\nAs always, please feel free to emai
 l me at&nbsp;This email address is being protected from spambots. You need 
 JavaScript enabled to view it.
				document.getElementById('cloak6e97078dff
 0507ef19af10b2d2edb5c3').innerHTML = '';
				var prefix = '&#109;a' + 'i&#1
 08;' + '&#116;o';
				var path = 'hr' + 'ef' + '=';
				var addy6e97078dff0
 507ef19af10b2d2edb5c3 = 'd&#97;ytr&#105;ps' + '&#64;';
				addy6e97078dff05
 07ef19af10b2d2edb5c3 = addy6e97078dff0507ef19af10b2d2edb5c3 + '&#97;zp&#105
 ;l&#111;ts' + '&#46;' + '&#111;rg';
				var addy_text6e97078dff0507ef19af10
 b2d2edb5c3 = 'd&#97;ytr&#105;ps' + '&#64;' + '&#97;zp&#105;l&#111;ts' + '&#
 46;' + '&#111;rg';document.getElementById('cloak6e97078dff0507ef19af10b2d2e
 db5c3').innerHTML += ''+addy_text6e97078dff0507ef19af10b2d2edb5c3+'';
		&nb
 sp;if you have any questions and we'll look forward to seeing you at our up
 coming breakfasts.Mike McCannAPA Day Trip Coordinator
CONTACT:Mike McCann This email address is being protected from spambots. You need JavaScript enabled to view it.
				document.getElementById('cloak8c5505e081e8b5ec8ab969392b1ca5d7').innerHTML = '';
				var prefix = '&#109;a' + 'i&#108;' + '&#116;o';
				var path = 'hr' + 'ef' + '=';
				var addy8c5505e081e8b5ec8ab969392b1ca5d7 = 'd&#97;ytr&#105;ps' + '&#64;';
				addy8c5505e081e8b5ec8ab969392b1ca5d7 = addy8c5505e081e8b5ec8ab969392b1ca5d7 + '&#97;zp&#105;l&#111;ts' + '&#46;' + '&#111;rg';
				var addy_text8c5505e081e8b5ec8ab969392b1ca5d7 = 'd&#97;ytr&#105;ps' + '&#64;' + '&#97;zp&#105;l&#111;ts' + '&#46;' + '&#111;rg';document.getElementById('cloak8c5505e081e8b5ec8ab969392b1ca5d7').innerHTML += ''+addy_text8c5505e081e8b5ec8ab969392b1ca5d7+'';
		
DTSTAMP:20260423T032502Z
DTSTART;TZID=America/Phoenix:20240914T073000
SEQUENCE:0
TRANSP:OPAQUE
END:VEVENT
END:VCALENDAR